BEGIN:VCALENDAR
VERSION:2.0
PRODID:-//Discover Cathedral City - ECPv6.15.13//NONSGML v1.0//EN
CALSCALE:GREGORIAN
METHOD:PUBLISH
X-WR-CALNAME:Discover Cathedral City
X-ORIGINAL-URL:https://www.discovercathedralcity.com
X-WR-CALDESC:Events for Discover Cathedral City
REFRESH-INTERVAL;VALUE=DURATION:PT1H
X-Robots-Tag:noindex
X-PUBLISHED-TTL:PT1H
BEGIN:VTIMEZONE
TZID:America/Los_Angeles
BEGIN:DAYLIGHT
TZOFFSETFROM:-0800
TZOFFSETTO:-0700
TZNAME:PDT
DTSTART:20180311T100000
END:DAYLIGHT
BEGIN:STANDARD
TZOFFSETFROM:-0700
TZOFFSETTO:-0800
TZNAME:PST
DTSTART:20181104T090000
END:STANDARD
BEGIN:DAYLIGHT
TZOFFSETFROM:-0800
TZOFFSETTO:-0700
TZNAME:PDT
DTSTART:20190310T100000
END:DAYLIGHT
BEGIN:STANDARD
TZOFFSETFROM:-0700
TZOFFSETTO:-0800
TZNAME:PST
DTSTART:20191103T090000
END:STANDARD
BEGIN:DAYLIGHT
TZOFFSETFROM:-0800
TZOFFSETTO:-0700
TZNAME:PDT
DTSTART:20200308T100000
END:DAYLIGHT
BEGIN:STANDARD
TZOFFSETFROM:-0700
TZOFFSETTO:-0800
TZNAME:PST
DTSTART:20201101T090000
END:STANDARD
END:VTIMEZONE
BEGIN:VEVENT
DTSTART;TZID=America/Los_Angeles:20190522T180000
DTEND;TZID=America/Los_Angeles:20190522T193000
DTSTAMP:20260419T060318
CREATED:20190415T165829Z
LAST-MODIFIED:20190415T165829Z
UID:10003292-1558548000-1558553400@www.discovercathedralcity.com
SUMMARY:Speakers Series - Friends of the Cathedral City Library
DESCRIPTION:The Friends of the Cathedral City Library invite you to join them for an informative Speakers Series featuring bestselling authors\, writers\, local celebrities and producers.  This free event will host the following: \nMay 22\, 6-7:30pm – Paul Clark on “Capturing the Desert Wind: Wind Energy Transforms the Coachella Valley” \nJune 19\, 6-7:30pm – Cathedral City Chief of Police Travis Walker on “Policing Challenges & the New Definition of Policing” \nJuly 17\, 6-7:30 pm – Award-Winning Filmmaker Casey Kiernan on “Timelapse Photography in Joshua Tree National Park” \n \nAll free lectures take place at Cathedral City Public Library\, Multi-purpose Room\, 33520 Date Palm Drive\, Cathedral City
URL:https://www.discovercathedralcity.com/event/speakers-series-friends-of-the-cathedral-city-library-4-2/
LOCATION:Cathedral City Public Library\, 33520 Date Palm Drive\, Cathedral City\, CA\, 92234\, United States
CATEGORIES:Charity,Community Events
ATTACH;FMTTYPE=image/jpeg:https://www.discovercathedralcity.com/wp-content/uploads/2019/04/Flyer-Top.jpg
GEO:33.8042303;-116.45733
X-APPLE-STRUCTURED-LOCATION;VALUE=URI;X-ADDRESS=Cathedral City Public Library 33520 Date Palm Drive Cathedral City CA 92234 United States;X-APPLE-RADIUS=500;X-TITLE=33520 Date Palm Drive:geo:-116.45733,33.8042303
END:VEVENT
END:VCALENDAR