BEGIN:VCALENDAR
VERSION:2.0
PRODID:-//Discover Cathedral City - ECPv6.15.13//NONSGML v1.0//EN
CALSCALE:GREGORIAN
METHOD:PUBLISH
X-ORIGINAL-URL:https://www.discovercathedralcity.com
X-WR-CALDESC:Events for Discover Cathedral City
REFRESH-INTERVAL;VALUE=DURATION:PT1H
X-Robots-Tag:noindex
X-PUBLISHED-TTL:PT1H
BEGIN:VTIMEZONE
TZID:America/Los_Angeles
BEGIN:DAYLIGHT
TZOFFSETFROM:-0800
TZOFFSETTO:-0700
TZNAME:PDT
DTSTART:20200308T100000
END:DAYLIGHT
BEGIN:STANDARD
TZOFFSETFROM:-0700
TZOFFSETTO:-0800
TZNAME:PST
DTSTART:20201101T090000
END:STANDARD
BEGIN:DAYLIGHT
TZOFFSETFROM:-0800
TZOFFSETTO:-0700
TZNAME:PDT
DTSTART:20210314T100000
END:DAYLIGHT
BEGIN:STANDARD
TZOFFSETFROM:-0700
TZOFFSETTO:-0800
TZNAME:PST
DTSTART:20211107T090000
END:STANDARD
BEGIN:DAYLIGHT
TZOFFSETFROM:-0800
TZOFFSETTO:-0700
TZNAME:PDT
DTSTART:20220313T100000
END:DAYLIGHT
BEGIN:STANDARD
TZOFFSETFROM:-0700
TZOFFSETTO:-0800
TZNAME:PST
DTSTART:20221106T090000
END:STANDARD
END:VTIMEZONE
BEGIN:VEVENT
DTSTART;TZID=America/Los_Angeles:20210508T090000
DTEND;TZID=America/Los_Angeles:20210508T140000
DTSTAMP:20260419T055202
CREATED:20210506T143106Z
LAST-MODIFIED:20210506T143106Z
UID:10003471-1620464400-1620482400@www.discovercathedralcity.com
SUMMARY:COVID-19 Vaccination Event at Cathedral City High School this Saturday
DESCRIPTION:A collaboration of multiple healthcare groups has teamed up to bring a Free COVID-19 Vaccination Event to Cathedral City High School this Saturday\, May 8\, 2021 from 9 am to 2 pm.  Located at 69250 Dinah Shore Drive\, the event will offer FREE Pfizer (16 years+) and Johnson & Johnson (18 years+) vaccines to anyone.  No insurance is necessary\, walk-ins are welcomed\, but appointments at www.bit.ly/cvecvaccine are encouraged in ordered to speed up the process once you arrive. \n  \nLos Angeles and San Francisco just recently moved to the less restrictive Yellow Tier as more people get vaccinated and the coronavirus community spread numbers\, there\, plummet.  Riverside County remains in the more restrictive Orange Tier.  We need more and more people to get vaccinated so we can keep families healthy and reopen our economy fully. \n  \nhttps://www.discovercathedralcity.com/covid-19-vaccination-event-at-cathedral-city-high-school-this-saturday/ \n  \nCCHS_May2021_Sp
URL:https://www.discovercathedralcity.com/event/covid-19-vaccination-event-at-cathedral-city-high-school-this-saturday-2/
LOCATION:Cathedral City High School\, 69250 Dinah Shore Dr.\, Cathedral City\, 92234\, United States
CATEGORIES:Community Events,Health
ATTACH;FMTTYPE=image/jpeg:https://www.discovercathedralcity.com/wp-content/uploads/2021/05/CCHS_May2021_Eng-scaled.jpg
GEO:33.8015278;-116.4533813
X-APPLE-STRUCTURED-LOCATION;VALUE=URI;X-ADDRESS=Cathedral City High School 69250 Dinah Shore Dr. Cathedral City 92234 United States;X-APPLE-RADIUS=500;X-TITLE=69250 Dinah Shore Dr.:geo:-116.4533813,33.8015278
END:VEVENT
END:VCALENDAR